BEGIN:VCALENDAR
VERSION:2.0
PRODID:-//Curie Elementary PTA - ECPv6.15.20//NONSGML v1.0//EN
CALSCALE:GREGORIAN
METHOD:PUBLISH
X-WR-CALNAME:Curie Elementary PTA
X-ORIGINAL-URL:https://curiepta.org
X-WR-CALDESC:Events for Curie Elementary PTA
REFRESH-INTERVAL;VALUE=DURATION:PT1H
X-Robots-Tag:noindex
X-PUBLISHED-TTL:PT1H
BEGIN:VTIMEZONE
TZID:America/Los_Angeles
BEGIN:DAYLIGHT
TZOFFSETFROM:-0800
TZOFFSETTO:-0700
TZNAME:PDT
DTSTART:20250309T100000
END:DAYLIGHT
BEGIN:STANDARD
TZOFFSETFROM:-0700
TZOFFSETTO:-0800
TZNAME:PST
DTSTART:20251102T090000
END:STANDARD
BEGIN:DAYLIGHT
TZOFFSETFROM:-0800
TZOFFSETTO:-0700
TZNAME:PDT
DTSTART:20260308T100000
END:DAYLIGHT
BEGIN:STANDARD
TZOFFSETFROM:-0700
TZOFFSETTO:-0800
TZNAME:PST
DTSTART:20261101T090000
END:STANDARD
BEGIN:DAYLIGHT
TZOFFSETFROM:-0800
TZOFFSETTO:-0700
TZNAME:PDT
DTSTART:20270314T100000
END:DAYLIGHT
BEGIN:STANDARD
TZOFFSETFROM:-0700
TZOFFSETTO:-0800
TZNAME:PST
DTSTART:20271107T090000
END:STANDARD
END:VTIMEZONE
BEGIN:VEVENT
DTSTART;TZID=America/Los_Angeles:20260511T163000
DTEND;TZID=America/Los_Angeles:20260511T173000
DTSTAMP:20260424T055910
CREATED:20250828T201919Z
LAST-MODIFIED:20260128T213949Z
UID:4824-1778517000-1778520600@curiepta.org
SUMMARY:UC Cluster Committee on Zoom
DESCRIPTION:The University City Cluster Committee is dedicated to improving educational endeavors and student achievement in the University City cluster of San Diego Unified public schools. Our committee has representatives from each of our 5 neighborhood schools including the principals\, teachers\, students and parents.We will start off the year with Zoom meetings using this link: https://us06web.zoom.us/j/86393482295?pwd=kGvDu0zwYoGKmHbUzIPCn4Lqji88gU.1. \nSee: https://www.uccluster.com/ and info@uccluster.com
URL:https://curiepta.org/event/uc-cluster-committee-on-zoom-5/
END:VEVENT
END:VCALENDAR